BEGIN:VCALENDAR
VERSION:2.0
PRODID:-//BIU International School - ECPv6.2.9//NONSGML v1.0//EN
CALSCALE:GREGORIAN
METHOD:PUBLISH
X-WR-CALNAME:BIU International School
X-ORIGINAL-URL:https://biuinternational.com
X-WR-CALDESC:Events for BIU International School
REFRESH-INTERVAL;VALUE=DURATION:PT1H
X-Robots-Tag:noindex
X-PUBLISHED-TTL:PT1H
BEGIN:VTIMEZONE
TZID:Asia/Jerusalem
BEGIN:DAYLIGHT
TZOFFSETFROM:+0200
TZOFFSETTO:+0300
TZNAME:IDT
DTSTART:20220325T000000
END:DAYLIGHT
BEGIN:STANDARD
TZOFFSETFROM:+0300
TZOFFSETTO:+0200
TZNAME:IST
DTSTART:20221029T230000
END:STANDARD
END:VTIMEZONE
BEGIN:VEVENT
DTSTART;TZID=Asia/Jerusalem:20221218T160000
DTEND;TZID=Asia/Jerusalem:20221218T160000
DTSTAMP:20260424T141526
CREATED:20221205T120935Z
LAST-MODIFIED:20221205T121013Z
UID:25389-1671379200-1671379200@biuinternational.com
SUMMARY:Hanukkah Celebration
DESCRIPTION:
URL:https://biuinternational.com/event/hanukkah-celebration/
END:VEVENT
BEGIN:VEVENT
DTSTART;TZID=Asia/Jerusalem:20221218T180000
DTEND;TZID=Asia/Jerusalem:20221218T193000
DTSTAMP:20260424T141526
CREATED:20221106T082251Z
LAST-MODIFIED:20221106T082251Z
UID:25108-1671386400-1671391800@biuinternational.com
SUMMARY:The Ambassadors Club
DESCRIPTION:
URL:https://biuinternational.com/event/the-ambassadors-club-5/
END:VEVENT
END:VCALENDAR