BEGIN:VCALENDAR
VERSION:2.0
PRODID:-//BIU International School - ECPv6.2.9//NONSGML v1.0//EN
CALSCALE:GREGORIAN
METHOD:PUBLISH
X-WR-CALNAME:BIU International School
X-ORIGINAL-URL:https://biuinternational.com
X-WR-CALDESC:Events for BIU International School
REFRESH-INTERVAL;VALUE=DURATION:PT1H
X-Robots-Tag:noindex
X-PUBLISHED-TTL:PT1H
BEGIN:VTIMEZONE
TZID:Asia/Jerusalem
BEGIN:DAYLIGHT
TZOFFSETFROM:+0200
TZOFFSETTO:+0300
TZNAME:IDT
DTSTART:20230324T000000
END:DAYLIGHT
BEGIN:STANDARD
TZOFFSETFROM:+0300
TZOFFSETTO:+0200
TZNAME:IST
DTSTART:20231028T230000
END:STANDARD
END:VTIMEZONE
BEGIN:VEVENT
DTSTART;TZID=Asia/Jerusalem:20231128T080000
DTEND;TZID=Asia/Jerusalem:20231128T170000
DTSTAMP:20260423T180405
CREATED:20231128T085033Z
LAST-MODIFIED:20231128T085033Z
UID:27552-1701158400-1701190800@biuinternational.com
SUMMARY:Eggplant Picking
DESCRIPTION:November 29th \nVolunteering for eggplant picking during the 7:00-15:00 session
URL:https://biuinternational.com/event/eggplant-picking/
END:VEVENT
END:VCALENDAR