BEGIN:VCALENDAR
VERSION:2.0
PRODID:-//BIU International School - ECPv6.2.9//NONSGML v1.0//EN
CALSCALE:GREGORIAN
METHOD:PUBLISH
X-ORIGINAL-URL:https://biuinternational.com
X-WR-CALDESC:Events for BIU International School
REFRESH-INTERVAL;VALUE=DURATION:PT1H
X-Robots-Tag:noindex
X-PUBLISHED-TTL:PT1H
BEGIN:VTIMEZONE
TZID:Asia/Jerusalem
BEGIN:DAYLIGHT
TZOFFSETFROM:+0200
TZOFFSETTO:+0300
TZNAME:IDT
DTSTART:20240329T000000
END:DAYLIGHT
BEGIN:STANDARD
TZOFFSETFROM:+0300
TZOFFSETTO:+0200
TZNAME:IST
DTSTART:20241026T230000
END:STANDARD
END:VTIMEZONE
BEGIN:VEVENT
DTSTART;TZID=Asia/Jerusalem:20240306T180000
DTEND;TZID=Asia/Jerusalem:20240306T190000
DTSTAMP:20260423T125553
CREATED:20240102T121950Z
LAST-MODIFIED:20240102T121950Z
UID:27700-1709748000-1709751600@biuinternational.com
SUMMARY:The Ambassadors' Club
DESCRIPTION:The Ambassadors’ Club 2023-2024 \nBe an ambassador!  \nAs the situation in Israel continues\, we want to give everyone an opportunity to learn more about the Iron Swords War and issues affecting Israel and the Middle East.  \nThe StandWithUs Ambassadors’ club at Bar-Ilan University is the premier program in Israel Advocacy\, aimed at educating students from around the world who want to represent Israel to the best of their abilities and study about public diplomacy\, security\, and the greater Middle East. From formal ambassadors to security experts\, professionals in public-speaking\, graduates of the Ambassadors’ Club are exposed to the best Israel has to offer in public diplomacy. \nThe international school gives you a once-in-a-lifetime opportunity to join the ambassador club led by the StandWithUs organization and offers:  \n\n\nA unique opportunity to engage in activism and advocacy related to Israel and its relations with the international community\, as well as a workshop that helps in dealing with difficult questions and presenting the position in a decisive and firm manner.\nProvides a platform for cultural exchange and making connections with students from different countries. Something that can improve your understanding of different cultures and points of view.\nOffers a platform for personal and advanced development.\nIncludes a meeting with ambassadors and first-class speakers.\n\n\n Participants who take part in 7 of the 8 sessions will receive a certificate of achievement accredited by Israel Ministry of Foreign Affairs and will be able to add the program to their resume. \nFor more information Register here 
URL:https://biuinternational.com/event/the-ambassadors-club-13/
END:VEVENT
END:VCALENDAR