BEGIN:VCALENDAR
VERSION:2.0
PRODID:-//BIU International School - ECPv6.2.9//NONSGML v1.0//EN
CALSCALE:GREGORIAN
METHOD:PUBLISH
X-WR-CALNAME:BIU International School
X-ORIGINAL-URL:https://biuinternational.com
X-WR-CALDESC:Events for BIU International School
REFRESH-INTERVAL;VALUE=DURATION:PT1H
X-Robots-Tag:noindex
X-PUBLISHED-TTL:PT1H
BEGIN:VTIMEZONE
TZID:Asia/Jerusalem
BEGIN:DAYLIGHT
TZOFFSETFROM:+0200
TZOFFSETTO:+0300
TZNAME:IDT
DTSTART:20240329T000000
END:DAYLIGHT
BEGIN:STANDARD
TZOFFSETFROM:+0300
TZOFFSETTO:+0200
TZNAME:IST
DTSTART:20241026T230000
END:STANDARD
END:VTIMEZONE
BEGIN:VEVENT
DTSTART;TZID=Asia/Jerusalem:20240408T120000
DTEND;TZID=Asia/Jerusalem:20240408T170000
DTSTAMP:20260423T112305
CREATED:20240331T071906Z
LAST-MODIFIED:20240331T071906Z
UID:28618-1712577600-1712595600@biuinternational.com
SUMMARY:Higher Education Fair for Olim
DESCRIPTION:‎Wohl Center – Bar Ilan Universiry‎‏
URL:https://biuinternational.com/event/higher-education-fair-for-olim/
END:VEVENT
END:VCALENDAR