BEGIN:VCALENDAR
VERSION:2.0
PRODID:-//BIU International School - ECPv6.2.9//NONSGML v1.0//EN
CALSCALE:GREGORIAN
METHOD:PUBLISH
X-ORIGINAL-URL:https://biuinternational.com
X-WR-CALDESC:Events for BIU International School
REFRESH-INTERVAL;VALUE=DURATION:PT1H
X-Robots-Tag:noindex
X-PUBLISHED-TTL:PT1H
BEGIN:VTIMEZONE
TZID:Asia/Jerusalem
BEGIN:DAYLIGHT
TZOFFSETFROM:+0200
TZOFFSETTO:+0300
TZNAME:IDT
DTSTART:20240329T000000
END:DAYLIGHT
BEGIN:STANDARD
TZOFFSETFROM:+0300
TZOFFSETTO:+0200
TZNAME:IST
DTSTART:20241026T230000
END:STANDARD
END:VTIMEZONE
BEGIN:VEVENT
DTSTART;TZID=Asia/Jerusalem:20240603T180000
DTEND;TZID=Asia/Jerusalem:20240603T193000
DTSTAMP:20260423T074344
CREATED:20240603T114524Z
LAST-MODIFIED:20240603T114524Z
UID:29816-1717437600-1717443000@biuinternational.com
SUMMARY:Basic Hebrew course
DESCRIPTION:
URL:https://biuinternational.com/event/basic-hebrew-course/
END:VEVENT
END:VCALENDAR