BEGIN:VCALENDAR
VERSION:2.0
PRODID:-//BIU International School - ECPv6.2.9//NONSGML v1.0//EN
CALSCALE:GREGORIAN
METHOD:PUBLISH
X-ORIGINAL-URL:https://biuinternational.com
X-WR-CALDESC:Events for BIU International School
REFRESH-INTERVAL;VALUE=DURATION:PT1H
X-Robots-Tag:noindex
X-PUBLISHED-TTL:PT1H
BEGIN:VTIMEZONE
TZID:Asia/Jerusalem
BEGIN:DAYLIGHT
TZOFFSETFROM:+0200
TZOFFSETTO:+0300
TZNAME:IDT
DTSTART:20240329T000000
END:DAYLIGHT
BEGIN:STANDARD
TZOFFSETFROM:+0300
TZOFFSETTO:+0200
TZNAME:IST
DTSTART:20241026T230000
END:STANDARD
END:VTIMEZONE
BEGIN:VEVENT
DTSTART;TZID=Asia/Jerusalem:20241105T100000
DTEND;TZID=Asia/Jerusalem:20241105T123000
DTSTAMP:20260422T223107
CREATED:20241103T115633Z
LAST-MODIFIED:20241103T115633Z
UID:30385-1730800800-1730809800@biuinternational.com
SUMMARY:New Olim Orientation Event
DESCRIPTION: 
URL:https://biuinternational.com/event/new-olim-orientation-event/
ATTACH;FMTTYPE=image/png:https://biuinternational.com/wp-content/uploads/2024/11/Screenshot_1.png
END:VEVENT
END:VCALENDAR