BEGIN:VCALENDAR
VERSION:2.0
PRODID:-//BIU International School - ECPv6.2.9//NONSGML v1.0//EN
CALSCALE:GREGORIAN
METHOD:PUBLISH
X-WR-CALNAME:BIU International School
X-ORIGINAL-URL:https://biuinternational.com
X-WR-CALDESC:Events for BIU International School
REFRESH-INTERVAL;VALUE=DURATION:PT1H
X-Robots-Tag:noindex
X-PUBLISHED-TTL:PT1H
BEGIN:VTIMEZONE
TZID:Asia/Jerusalem
BEGIN:DAYLIGHT
TZOFFSETFROM:+0200
TZOFFSETTO:+0300
TZNAME:IDT
DTSTART:20240329T000000
END:DAYLIGHT
BEGIN:STANDARD
TZOFFSETFROM:+0300
TZOFFSETTO:+0200
TZNAME:IST
DTSTART:20241026T230000
END:STANDARD
BEGIN:DAYLIGHT
TZOFFSETFROM:+0200
TZOFFSETTO:+0300
TZNAME:IDT
DTSTART:20250328T000000
END:DAYLIGHT
BEGIN:STANDARD
TZOFFSETFROM:+0300
TZOFFSETTO:+0200
TZNAME:IST
DTSTART:20251025T230000
END:STANDARD
END:VTIMEZONE
BEGIN:VEVENT
DTSTART;TZID=Asia/Jerusalem:20240616T180000
DTEND;TZID=Asia/Jerusalem:20240616T193000
DTSTAMP:20260423T125723
CREATED:20240603T114710Z
LAST-MODIFIED:20240603T114821Z
UID:29818-1718560800-1718566200@biuinternational.com
SUMMARY:Advanced Hebrew Course
DESCRIPTION:
URL:https://biuinternational.com/event/advanced-hebrew-course/2024-06-16/
END:VEVENT
BEGIN:VEVENT
DTSTART;TZID=Asia/Jerusalem:20240625T080000
DTEND;TZID=Asia/Jerusalem:20240625T170000
DTSTAMP:20260423T125723
CREATED:20240625T104916Z
LAST-MODIFIED:20240625T105142Z
UID:29986-1719302400-1719334800@biuinternational.com
SUMMARY:Worlds Meet: Lectures by Indian Scientists at Bar-Ilan
DESCRIPTION:SAVE THE DATE! \n“Worlds Meet: Lectures by Indian Scientists at Bar-Ilan” \nJuly 2nd\, 2024 13:30-15:00 \nLocation TBD \nAs part of the Asia Day activities at Bar-Ilan\, the Asian Studies program is pleased to invite you to a meeting dedicated to the work of Indian researchers from the university. Join us for an hour and a half of cutting-edge presentations by scholars who have come from India to do science in Israel. \n13:30 Greetings \n13:45 Presentations: \nAsha James\, Biology: Pollen Thermotolerance; What and Why? \nManoj Sanmugasundaram\, Chemistry: From Lab to Life: Pioneering Electrocatalysts for Green Hydrogen Production \nMonalisa Singh Roy\, Physics: How long do Quantum Computers Remain “Quantum”? \nUpasha Acharyya\, Materials Engineering: Single Photon Detection Technology. \nSenjooty Roy\, Social Work: Climate Change and Intergenerational Relations. \n  \n14:45: Q&A
URL:https://biuinternational.com/event/worlds-meet-lectures-by-indian-scientists-at-bar-ilan/
END:VEVENT
BEGIN:VEVENT
DTSTART;VALUE=DATE:20240716
DTEND;VALUE=DATE:20240717
DTSTAMP:20260423T125723
CREATED:20240708T085718Z
LAST-MODIFIED:20240708T085718Z
UID:30009-1721088000-1721174399@biuinternational.com
SUMMARY:Coffee Meeting
DESCRIPTION:Sign up here \n \n 
URL:https://biuinternational.com/event/coffee-meeting/
ATTACH;FMTTYPE=image/jpeg:https://biuinternational.com/wp-content/uploads/2024/07/קפה-אנגלית-16.7.24_page-0001.jpg
END:VEVENT
BEGIN:VEVENT
DTSTART;TZID=Asia/Jerusalem:20240718T180000
DTEND;TZID=Asia/Jerusalem:20240718T200000
DTSTAMP:20260423T125723
CREATED:20240625T104753Z
LAST-MODIFIED:20240625T104753Z
UID:29984-1721325600-1721332800@biuinternational.com
SUMMARY:End of  year party
DESCRIPTION:
URL:https://biuinternational.com/event/end-of-year-party-2/
END:VEVENT
BEGIN:VEVENT
DTSTART;TZID=Asia/Jerusalem:20241029T100000
DTEND;TZID=Asia/Jerusalem:20241029T160000
DTSTAMP:20260423T125723
CREATED:20241001T065957Z
LAST-MODIFIED:20241015T070810Z
UID:30340-1730196000-1730217600@biuinternational.com
SUMMARY:Orientation Day
DESCRIPTION:All the students are invited to our orientation day on October 29th from 10:00 AM to 5:00 PM in the Faculty of Education\, Building 905\, -1st floor.
URL:https://biuinternational.com/event/orientation-day/
END:VEVENT
BEGIN:VEVENT
DTSTART;TZID=Asia/Jerusalem:20241105T100000
DTEND;TZID=Asia/Jerusalem:20241105T123000
DTSTAMP:20260423T125723
CREATED:20241103T115633Z
LAST-MODIFIED:20241103T115633Z
UID:30385-1730800800-1730809800@biuinternational.com
SUMMARY:New Olim Orientation Event
DESCRIPTION: 
URL:https://biuinternational.com/event/new-olim-orientation-event/
ATTACH;FMTTYPE=image/png:https://biuinternational.com/wp-content/uploads/2024/11/Screenshot_1.png
END:VEVENT
BEGIN:VEVENT
DTSTART;TZID=Asia/Jerusalem:20241125T133000
DTEND;TZID=Asia/Jerusalem:20241125T150000
DTSTAMP:20260423T125723
CREATED:20241112T083217Z
LAST-MODIFIED:20241112T083217Z
UID:30606-1732541400-1732546800@biuinternational.com
SUMMARY:An English Coffee Break
DESCRIPTION:
URL:https://biuinternational.com/event/an-english-coffee-break/
ATTACH;FMTTYPE=image/jpeg:https://biuinternational.com/wp-content/uploads/2024/11/BIUGesherCoffeeAd11.jpg
END:VEVENT
BEGIN:VEVENT
DTSTART;TZID=Asia/Jerusalem:20241127T180000
DTEND;TZID=Asia/Jerusalem:20241127T193000
DTSTAMP:20260423T125723
CREATED:20241112T081607Z
LAST-MODIFIED:20241112T081607Z
UID:30588-1732730400-1732735800@biuinternational.com
SUMMARY:Ambassador's Club Speaking Series
DESCRIPTION:
URL:https://biuinternational.com/event/ambassadors-club-speaking-series/
ATTACH;FMTTYPE=image/jpeg:https://biuinternational.com/wp-content/uploads/2024/11/אמבסדור-קלאב-פלייר.jpg
END:VEVENT
BEGIN:VEVENT
DTSTART;TZID=Asia/Jerusalem:20241211T180000
DTEND;TZID=Asia/Jerusalem:20241211T193000
DTSTAMP:20260423T125723
CREATED:20241112T081729Z
LAST-MODIFIED:20241112T081729Z
UID:30591-1733940000-1733945400@biuinternational.com
SUMMARY:Ambassador's Club Speaking Series
DESCRIPTION:
URL:https://biuinternational.com/event/ambassadors-club-speaking-series-2/
ATTACH;FMTTYPE=image/jpeg:https://biuinternational.com/wp-content/uploads/2024/11/אמבסדור-קלאב-פלייר.jpg
END:VEVENT
BEGIN:VEVENT
DTSTART;TZID=Asia/Jerusalem:20241218T180000
DTEND;TZID=Asia/Jerusalem:20241218T193000
DTSTAMP:20260423T125723
CREATED:20241112T081941Z
LAST-MODIFIED:20241112T081941Z
UID:30595-1734544800-1734550200@biuinternational.com
SUMMARY:Ambassador's Club Speaking Series
DESCRIPTION:
URL:https://biuinternational.com/event/ambassadors-club-speaking-series-4/
ATTACH;FMTTYPE=image/jpeg:https://biuinternational.com/wp-content/uploads/2024/11/אמבסדור-קלאב-פלייר.jpg
END:VEVENT
BEGIN:VEVENT
DTSTART;TZID=Asia/Jerusalem:20241225T180000
DTEND;TZID=Asia/Jerusalem:20241225T193000
DTSTAMP:20260423T125723
CREATED:20241112T081826Z
LAST-MODIFIED:20241112T081826Z
UID:30593-1735149600-1735155000@biuinternational.com
SUMMARY:Ambassador's Club Speaking Series
DESCRIPTION:
URL:https://biuinternational.com/event/ambassadors-club-speaking-series-3/
ATTACH;FMTTYPE=image/jpeg:https://biuinternational.com/wp-content/uploads/2024/11/אמבסדור-קלאב-פלייר.jpg
END:VEVENT
BEGIN:VEVENT
DTSTART;TZID=Asia/Jerusalem:20250403T180000
DTEND;TZID=Asia/Jerusalem:20250403T193000
DTSTAMP:20260423T125723
CREATED:20241112T082801Z
LAST-MODIFIED:20250318T104349Z
UID:30603-1743703200-1743708600@biuinternational.com
SUMMARY:Ambassador's Club Speaking Series
DESCRIPTION:
URL:https://biuinternational.com/event/ambassadors-club-speaking-series-8/
ATTACH;FMTTYPE=image/jpeg:https://biuinternational.com/wp-content/uploads/2024/11/אמבסדור-קלאב-פלייר.jpg
END:VEVENT
BEGIN:VEVENT
DTSTART;TZID=Asia/Jerusalem:20250405T180000
DTEND;TZID=Asia/Jerusalem:20250405T193000
DTSTAMP:20260423T125723
CREATED:20241112T082211Z
LAST-MODIFIED:20250318T083054Z
UID:30599-1743876000-1743881400@biuinternational.com
SUMMARY:Ambassador's Club Speaking Series
DESCRIPTION:
URL:https://biuinternational.com/event/ambassadors-club-speaking-series-6/
ATTACH;FMTTYPE=image/jpeg:https://biuinternational.com/wp-content/uploads/2024/11/אמבסדור-קלאב-פלייר.jpg
END:VEVENT
BEGIN:VEVENT
DTSTART;TZID=Asia/Jerusalem:20250419T180000
DTEND;TZID=Asia/Jerusalem:20250419T193000
DTSTAMP:20260423T125723
CREATED:20241112T082707Z
LAST-MODIFIED:20250318T083045Z
UID:30601-1745085600-1745091000@biuinternational.com
SUMMARY:Ambassador's Club Speaking Series
DESCRIPTION:
URL:https://biuinternational.com/event/ambassadors-club-speaking-series-7/
ATTACH;FMTTYPE=image/jpeg:https://biuinternational.com/wp-content/uploads/2024/11/אמבסדור-קלאב-פלייר.jpg
END:VEVENT
BEGIN:VEVENT
DTSTART;TZID=Asia/Jerusalem:20250422T180000
DTEND;TZID=Asia/Jerusalem:20250422T193000
DTSTAMP:20260423T125723
CREATED:20241112T082041Z
LAST-MODIFIED:20250318T083110Z
UID:30597-1745344800-1745350200@biuinternational.com
SUMMARY:Ambassador's Club Speaking Series
DESCRIPTION:
URL:https://biuinternational.com/event/ambassadors-club-speaking-series-5/
ATTACH;FMTTYPE=image/jpeg:https://biuinternational.com/wp-content/uploads/2024/11/אמבסדור-קלאב-פלייר.jpg
END:VEVENT
BEGIN:VEVENT
DTSTART;TZID=Asia/Jerusalem:20251208T193000
DTEND;TZID=Asia/Jerusalem:20251208T210000
DTSTAMP:20260423T125723
CREATED:20251125T125311Z
LAST-MODIFIED:20251125T125311Z
UID:36808-1765222200-1765227600@biuinternational.com
SUMMARY:BIU’s International MBA (IMBA) Online Open Day
DESCRIPTION:BIU’s International MBA (IMBA) Online Open Day! \nWe invite you to join us on our Online Open Day \nDate: Monday\, December 8\, 2025 \nTime: 19:30 \nOn Zoom \nRegistration is mandatory \nThe IMBA is the perfect opportunity to grow both professionally and personally in 15 months. \nJoin more than 100 students who have chosen to advance their careers through Bar-Ilan University’s IMBA program this year. \nThe next IMBA class begins March 2026\, offering a flexible hybrid learning format designed for working professionals. Classes take place on Monday afternoons and Friday mornings\, alternating between on-campus sessions and live Zoom meetings – a balanced blend of in-person networking and online convenience. \nTaught entirely in English\, the IMBA is a 15-month program that combines academic studies with real-world insight. Mandatory courses will give you tools for your professional challenges. And elective courses will broaden your knowledge. Electives include: \n\nCreativity and Innovation\nFoundations of Digital Marketing\nLeading Global Work Teams to Success\nSustainability & the Circular Economy\nCorporate Finance\nFintech\, Concepts & Applications\nIntroduction to Game Theory and Strategic Thinking\nAI and Management\nInvesting in Emerging Markets\n\nOur alumni work in companies such as: Google\, Phillip Morris\, Nice Systems\, Tiktok\, Check Point Software\, Adobe\, Microsoft\, Amazon\, Buligo Capital and numerous startups. \nTuition follows the standard Israeli university rate – approximately NIS 34\,000 for Israeli citizens\, with a 25% surcharge for non-citizens. \nLocated in the Tel Aviv metropolitan area\, Bar-Ilan University sits at the heart of Israel’s high-tech corridor. The campus is green\, modern\, and welcoming\, with new\, state-of-the-art dormitory facilities. \nTake advantage of this opportunity to study in the heart of the Startup Nation with students from around the world\, at BIU’s IMBA – the first MBA in English in Israel. \nApplications for the March 2026 class are now open!\n Contact: imba@biu.ac.il\n Visit our website \nApply now!
URL:https://biuinternational.com/event/bius-international-mba-imba-online-open-day/
END:VEVENT
END:VCALENDAR