BEGIN:VCALENDAR
VERSION:2.0
PRODID:-//BIU International School - ECPv6.2.9//NONSGML v1.0//EN
CALSCALE:GREGORIAN
METHOD:PUBLISH
X-WR-CALNAME:BIU International School
X-ORIGINAL-URL:https://biuinternational.com
X-WR-CALDESC:Events for BIU International School
REFRESH-INTERVAL;VALUE=DURATION:PT1H
X-Robots-Tag:noindex
X-PUBLISHED-TTL:PT1H
BEGIN:VTIMEZONE
TZID:Asia/Jerusalem
BEGIN:DAYLIGHT
TZOFFSETFROM:+0200
TZOFFSETTO:+0300
TZNAME:IDT
DTSTART:20220325T000000
END:DAYLIGHT
BEGIN:STANDARD
TZOFFSETFROM:+0300
TZOFFSETTO:+0200
TZNAME:IST
DTSTART:20221029T230000
END:STANDARD
END:VTIMEZONE
BEGIN:VEVENT
DTSTART;VALUE=DATE:20220815
DTEND;VALUE=DATE:20220816
DTSTAMP:20260424T012056
CREATED:20220810T064532Z
LAST-MODIFIED:20220810T064532Z
UID:24178-1660521600-1660607999@biuinternational.com
SUMMARY:Indian Independence Day
DESCRIPTION:
URL:https://biuinternational.com/event/indian-independence-day/
END:VEVENT
END:VCALENDAR