BEGIN:VCALENDAR
VERSION:2.0
PRODID:-//BIU International School - ECPv6.2.9//NONSGML v1.0//EN
CALSCALE:GREGORIAN
METHOD:PUBLISH
X-WR-CALNAME:BIU International School
X-ORIGINAL-URL:https://biuinternational.com
X-WR-CALDESC:Events for BIU International School
REFRESH-INTERVAL;VALUE=DURATION:PT1H
X-Robots-Tag:noindex
X-PUBLISHED-TTL:PT1H
BEGIN:VTIMEZONE
TZID:Asia/Jerusalem
BEGIN:DAYLIGHT
TZOFFSETFROM:+0200
TZOFFSETTO:+0300
TZNAME:IDT
DTSTART:20220325T000000
END:DAYLIGHT
BEGIN:STANDARD
TZOFFSETFROM:+0300
TZOFFSETTO:+0200
TZNAME:IST
DTSTART:20221029T230000
END:STANDARD
END:VTIMEZONE
BEGIN:VEVENT
DTSTART;VALUE=DATE:20221020
DTEND;VALUE=DATE:20221021
DTSTAMP:20260423T232840
CREATED:20220810T064842Z
LAST-MODIFIED:20220810T064842Z
UID:24182-1666224000-1666310399@biuinternational.com
SUMMARY:Orientation day for the international students and newcomers
DESCRIPTION:
URL:https://biuinternational.com/event/orientation-day-for-the-international-students-and-newcomers/
END:VEVENT
BEGIN:VEVENT
DTSTART;VALUE=DATE:20220922
DTEND;VALUE=DATE:20220923
DTSTAMP:20260423T232840
CREATED:20220810T064753Z
LAST-MODIFIED:20220810T064753Z
UID:24180-1663804800-1663891199@biuinternational.com
SUMMARY:A toast to the Hebrew New Year
DESCRIPTION:
URL:https://biuinternational.com/event/a-toast-to-the-hebrew-new-year/
END:VEVENT
BEGIN:VEVENT
DTSTART;TZID=Asia/Jerusalem:20220905T190000
DTEND;TZID=Asia/Jerusalem:20220905T200000
DTSTAMP:20260423T232840
CREATED:20220831T070710Z
LAST-MODIFIED:20220831T070906Z
UID:24588-1662404400-1662408000@biuinternational.com
SUMMARY:International MBA Virtual Open House
DESCRIPTION:
URL:https://biuinternational.com/event/international-mba-virtual-open-house/
ATTACH;FMTTYPE=image/png:https://biuinternational.com/wp-content/uploads/2022/08/Screenshot_1.png
END:VEVENT
BEGIN:VEVENT
DTSTART;VALUE=DATE:20220815
DTEND;VALUE=DATE:20220816
DTSTAMP:20260423T232840
CREATED:20220810T064532Z
LAST-MODIFIED:20220810T064532Z
UID:24178-1660521600-1660607999@biuinternational.com
SUMMARY:Indian Independence Day
DESCRIPTION:
URL:https://biuinternational.com/event/indian-independence-day/
END:VEVENT
END:VCALENDAR