BEGIN:VCALENDAR
VERSION:2.0
PRODID:-//BIU International School - ECPv6.2.9//NONSGML v1.0//EN
CALSCALE:GREGORIAN
METHOD:PUBLISH
X-WR-CALNAME:BIU International School
X-ORIGINAL-URL:https://biuinternational.com
X-WR-CALDESC:Events for BIU International School
REFRESH-INTERVAL;VALUE=DURATION:PT1H
X-Robots-Tag:noindex
X-PUBLISHED-TTL:PT1H
BEGIN:VTIMEZONE
TZID:Asia/Jerusalem
BEGIN:DAYLIGHT
TZOFFSETFROM:+0200
TZOFFSETTO:+0300
TZNAME:IDT
DTSTART:20220325T000000
END:DAYLIGHT
BEGIN:STANDARD
TZOFFSETFROM:+0300
TZOFFSETTO:+0200
TZNAME:IST
DTSTART:20221029T230000
END:STANDARD
END:VTIMEZONE
BEGIN:VEVENT
DTSTART;TZID=Asia/Jerusalem:20221106T180000
DTEND;TZID=Asia/Jerusalem:20221106T190000
DTSTAMP:20260424T141600
CREATED:20221102T080447Z
LAST-MODIFIED:20221102T080447Z
UID:25027-1667757600-1667761200@biuinternational.com
SUMMARY:The Ambassadors' Club
DESCRIPTION:
URL:https://biuinternational.com/event/the-ambassadors-club/
END:VEVENT
BEGIN:VEVENT
DTSTART;TZID=Asia/Jerusalem:20221120T180000
DTEND;TZID=Asia/Jerusalem:20221120T193000
DTSTAMP:20260424T141600
CREATED:20221106T082103Z
LAST-MODIFIED:20221106T082103Z
UID:25102-1668967200-1668972600@biuinternational.com
SUMMARY:The Ambassadors Club
DESCRIPTION:
URL:https://biuinternational.com/event/the-ambassadors-club-2/
END:VEVENT
BEGIN:VEVENT
DTSTART;TZID=Asia/Jerusalem:20221121T193000
DTEND;TZID=Asia/Jerusalem:20221121T220000
DTSTAMP:20260424T141600
CREATED:20221116T104527Z
LAST-MODIFIED:20221116T104527Z
UID:25186-1669059000-1669068000@biuinternational.com
SUMMARY:Full Moon Party
DESCRIPTION:You are invited to come and celebrate the opening of the year with us at a crazy FULLMOON party with good music\, new friends\, food\, and more surprises.\n\n\nNext Monday\, 21.11.22 at 19:30 at Mintz Lobby BUILDING 403 FLOOR -1 Hurry up to register http://forms.office.com/r/77T2iQBfxw\nwaiting to see you!
URL:https://biuinternational.com/event/full-moon-party/
END:VEVENT
END:VCALENDAR